BEGIN:VCALENDAR
VERSION:2.0
PRODID:-//Tukios.com/
BEGIN:VEVENT
UID:9207c347-0bdd-40f0-b4be-52f5e019e5cd@www.howeandyockey.com
DTSTAMP:20260426T003411Z
DTSTART:20260502T170000Z
DTEND:20260502T180000Z
SUMMARY:Visitation
DESCRIPTION:
URL:https://www.howeandyockey.com/obituaries/stanley-kouns-ii
LOCATION:Praise Assembly of God 1300 Osage Rd  Charleston IL 61920
GEO:39.4850833;-88.2440311
END:VEVENT
END:VCALENDAR