BEGIN:VCALENDAR
VERSION:2.0
PRODID:-//Tukios.com/
BEGIN:VEVENT
UID:9d184c2e-8d86-4ba8-91ec-bd8f71d2cd37@www.howeandyockey.com
DTSTAMP:20260426T003727Z
DTSTART:20260502T180000Z
DTEND:20260502T190000Z
SUMMARY:Memorial Service
DESCRIPTION:
URL:https://www.howeandyockey.com/obituaries/stanley-kouns-ii
LOCATION: 1300 Osage Rd  Charleston IL 61920
GEO:39.4850833;-88.2440311
END:VEVENT
END:VCALENDAR